BEGIN:VCALENDAR
VERSION:2.0
PRODID:-//ACE - ECPv6.15.18//NONSGML v1.0//EN
CALSCALE:GREGORIAN
METHOD:PUBLISH
X-ORIGINAL-URL:https://sites-recherche.univ-rennes2.fr/ace
X-WR-CALDESC:Évènements pour ACE
REFRESH-INTERVAL;VALUE=DURATION:PT1H
X-Robots-Tag:noindex
X-PUBLISHED-TTL:PT1H
BEGIN:VTIMEZONE
TZID:Europe/Paris
BEGIN:DAYLIGHT
TZOFFSETFROM:+0100
TZOFFSETTO:+0200
TZNAME:CEST
DTSTART:20250330T010000
END:DAYLIGHT
BEGIN:STANDARD
TZOFFSETFROM:+0200
TZOFFSETTO:+0100
TZNAME:CET
DTSTART:20251026T010000
END:STANDARD
BEGIN:DAYLIGHT
TZOFFSETFROM:+0100
TZOFFSETTO:+0200
TZNAME:CEST
DTSTART:20260329T010000
END:DAYLIGHT
BEGIN:STANDARD
TZOFFSETFROM:+0200
TZOFFSETTO:+0100
TZNAME:CET
DTSTART:20261025T010000
END:STANDARD
BEGIN:DAYLIGHT
TZOFFSETFROM:+0100
TZOFFSETTO:+0200
TZNAME:CEST
DTSTART:20270328T010000
END:DAYLIGHT
BEGIN:STANDARD
TZOFFSETFROM:+0200
TZOFFSETTO:+0100
TZNAME:CET
DTSTART:20271031T010000
END:STANDARD
END:VTIMEZONE
BEGIN:VEVENT
DTSTART;VALUE=DATE:20260917
DTEND;VALUE=DATE:20260920
DTSTAMP:20260424T204436
CREATED:20251216T135621Z
LAST-MODIFIED:20251216T135704Z
UID:2172-1789603200-1789862399@sites-recherche.univ-rennes2.fr
SUMMARY:Star Trek\, Dynamiques d'une fabrique de mondes – Expansion\, variation\, densification
DESCRIPTION:
URL:https://sites-recherche.univ-rennes2.fr/ace/evenement/star-trek-dynamiques-dune-fabrique-de-mondes-expansion-variation-densification/
LOCATION:Collège britannique à la Cité internationale à Paris\, France
CATEGORIES:Colloques
END:VEVENT
END:VCALENDAR