BEGIN:VCALENDAR
VERSION:2.0
PRODID:-//ACE - ECPv6.15.18//NONSGML v1.0//EN
CALSCALE:GREGORIAN
METHOD:PUBLISH
X-ORIGINAL-URL:https://sites-recherche.univ-rennes2.fr/ace
X-WR-CALDESC:Évènements pour ACE
REFRESH-INTERVAL;VALUE=DURATION:PT1H
X-Robots-Tag:noindex
X-PUBLISHED-TTL:PT1H
BEGIN:VTIMEZONE
TZID:Europe/Paris
BEGIN:DAYLIGHT
TZOFFSETFROM:+0100
TZOFFSETTO:+0200
TZNAME:CEST
DTSTART:20230326T010000
END:DAYLIGHT
BEGIN:STANDARD
TZOFFSETFROM:+0200
TZOFFSETTO:+0100
TZNAME:CET
DTSTART:20231029T010000
END:STANDARD
BEGIN:DAYLIGHT
TZOFFSETFROM:+0100
TZOFFSETTO:+0200
TZNAME:CEST
DTSTART:20240331T010000
END:DAYLIGHT
BEGIN:STANDARD
TZOFFSETFROM:+0200
TZOFFSETTO:+0100
TZNAME:CET
DTSTART:20241027T010000
END:STANDARD
BEGIN:DAYLIGHT
TZOFFSETFROM:+0100
TZOFFSETTO:+0200
TZNAME:CEST
DTSTART:20250330T010000
END:DAYLIGHT
BEGIN:STANDARD
TZOFFSETFROM:+0200
TZOFFSETTO:+0100
TZNAME:CET
DTSTART:20251026T010000
END:STANDARD
END:VTIMEZONE
BEGIN:VEVENT
DTSTART;TZID=Europe/Paris:20241113T090000
DTEND;TZID=Europe/Paris:20241113T163000
DTSTAMP:20260424T164508
CREATED:20241003T172752Z
LAST-MODIFIED:20241003T173044Z
UID:1705-1731488400-1731515400@sites-recherche.univ-rennes2.fr
SUMMARY:Journée d'étude « Condition animale et études aréales : quelles synergies\, quels enjeux ? »
DESCRIPTION:L’Observatoire de Recherche sur la Condition Animale (ORCA) et les GIS Asie\, Études africaines en France\, et Moyen-Orient et Mondes musulmans (MOMM) ont le plaisir d’annoncer l’organisation d’une journée d’étude commune le  mercredi 13 novembre 2024 (9h – 16h30) au Centre des Colloques du Campus Condorcet à Aubervilliers. Cette journée aura lieu en présentiel uniquement. \nLa journée d’étude aura pour thème : « Condition animale et études aréales : quelles synergies\, quels enjeux ? » \nCette journée aura pour objectif d’échanger autour de la place des animaux non humains dans différentes aires culturelles\, de la considération morale dont ils font l’objet\, ainsi que des modes de coexistence et de cohabitation entre humains et non-humains. \nToutes les informations liées à cette journée sont disponibles ici : Journée d’études animales et aréales 2024
URL:https://sites-recherche.univ-rennes2.fr/ace/evenement/journee-detude-condition-animale-et-etudes-areales-quelles-synergies-quels-enjeux/
LOCATION:Campus Condorcet\, Aubervilliers\, France
CATEGORIES:Journées d'étude
ATTACH;FMTTYPE=image/png:https://sites-recherche.univ-rennes2.fr/ace/wp-content/uploads/2024/10/capture-decran-2024-09-27-a-14.20.39.png
END:VEVENT
BEGIN:VEVENT
DTSTART;TZID=Europe/Paris:20241119T083000
DTEND;TZID=Europe/Paris:20241119T170000
DTSTAMP:20260424T164508
CREATED:20240416T145313Z
LAST-MODIFIED:20241106T151907Z
UID:1494-1732005000-1732035600@sites-recherche.univ-rennes2.fr
SUMMARY:Inauguration de la Chaire Recherche-Action Docteur Denis Mukwege
DESCRIPTION:
URL:https://sites-recherche.univ-rennes2.fr/ace/evenement/venue-a-rennes-2-de-denis-mukwege/
LOCATION:Amphi T – PNRV\, Campus Villejean\, Rennes\, France
CATEGORIES:Journées d'étude,Rencontres / Débats / Conférences
ATTACH;FMTTYPE=image/jpeg:https://sites-recherche.univ-rennes2.fr/ace/wp-content/uploads/2024/04/mukwege_affiche_web.jpg
END:VEVENT
END:VCALENDAR