BEGIN:VCALENDAR
VERSION:2.0
PRODID:-//ACE - ECPv6.15.18//NONSGML v1.0//EN
CALSCALE:GREGORIAN
METHOD:PUBLISH
X-WR-CALNAME:ACE
X-ORIGINAL-URL:https://sites-recherche.univ-rennes2.fr/ace
X-WR-CALDESC:Évènements pour ACE
REFRESH-INTERVAL;VALUE=DURATION:PT1H
X-Robots-Tag:noindex
X-PUBLISHED-TTL:PT1H
BEGIN:VTIMEZONE
TZID:Europe/Paris
BEGIN:DAYLIGHT
TZOFFSETFROM:+0100
TZOFFSETTO:+0200
TZNAME:CEST
DTSTART:20240331T010000
END:DAYLIGHT
BEGIN:STANDARD
TZOFFSETFROM:+0200
TZOFFSETTO:+0100
TZNAME:CET
DTSTART:20241027T010000
END:STANDARD
BEGIN:DAYLIGHT
TZOFFSETFROM:+0100
TZOFFSETTO:+0200
TZNAME:CEST
DTSTART:20250330T010000
END:DAYLIGHT
BEGIN:STANDARD
TZOFFSETFROM:+0200
TZOFFSETTO:+0100
TZNAME:CET
DTSTART:20251026T010000
END:STANDARD
BEGIN:DAYLIGHT
TZOFFSETFROM:+0100
TZOFFSETTO:+0200
TZNAME:CEST
DTSTART:20260329T010000
END:DAYLIGHT
BEGIN:STANDARD
TZOFFSETFROM:+0200
TZOFFSETTO:+0100
TZNAME:CET
DTSTART:20261025T010000
END:STANDARD
END:VTIMEZONE
BEGIN:VEVENT
DTSTART;TZID=Europe/Paris:20251016T090000
DTEND;TZID=Europe/Paris:20251016T170000
DTSTAMP:20260419T211416
CREATED:20241105T082131Z
LAST-MODIFIED:20251007T155531Z
UID:1794-1760605200-1760634000@sites-recherche.univ-rennes2.fr
SUMMARY:J.E. d'équipe "Lieux communs"
DESCRIPTION:9h15 — Accueil salle L201 \n9h30 — Ouverture\nHélène Machinal \n9h45 – 11h00 — Atelier 1. Espace(s) commun(s) : entre construction et réinvention\nModération : Grainne O’Keeffe-Vigneron\n• Sophie Mesplède & Charlotte Gould — “Hampstead Heath in the Angloseen. Common(s) Views and Contested Futures”\n• Pauline Boisgerault — “Virtualités littéraires de l’Ouest américain : un panorama des approches d’exploration du mythe”\n• Aurore Caignet & Guillaume Clément — “Live music\, heritage and communities: the example of the Leadmill in Sheffield” \n11h00 – 11h20 — Pause café \n11h20 – 12h20 — Atelier 2. Communauté(s) : inclusion / exclusion\nModération : Renée Dickason\n• Valérie Capdeville — “Club Sociability or the Paradoxes of Community: The Construction of Social and Gender Identities in Eighteenth-century British and Early American Societies”\n• Claude Le Fustec — “Communauté et exclusion dans la fiction de Toni Morrison : ré-écrire le lieu commun de l’identité ?” \n12h20 – 14h00 — Déjeuner Hall bâtiment N \n14h00 – 15h15 — Atelier 3. Langages du commun : jeux et variations\nModération : Manon Philippe\n• Sandrine Oriez — “L’adjectif possessif : un lieu commun à revisiter”\n• Maria Tang — “ ‘Mors omnibus est communis’: water\, language and the tragedy of the ‘flowing commons’ in George Eliot’s The Mill on the Floss (1860)”\n• Nicole Bastin — “The Last of Us Part II : partir de lieux communs pour une expérience hors du commun” \n15h15 – Pause café \n15h30 – 16h45 — Atelier 4. Rapports de pouvoir et lieux communs : approches critiques\nModération : Charline Pluvinet (CELLAM)\n• Émilie Dardenne — “Genre et appartenance d’espèce : jusqu’où va le commun ?”\n• Anaïs Le Fèvre-Berthelot — “Les dominé·es peuvent-iels parler ensemble (à la radio) ?”\n• David Haigron — “Les influenceurs végans britanniques\, les stéréotypes de genre et leur communauté : en finir avec la « masculinité-toxine » ?” \nAppel à communications\n« Le lieu commun est un peu comme le phénix. On n’en a jamais fini avec lui ; il ne cesse de renaître de ses cendres » lance en 1996 l’académicien Antoine Compagnon en ouverture d’une conférence intitulée « Théorie du lieu commun ». Par sa polysémie et ses dimensions rhétorique\, littéraire et sociologique\, le concept de « lieux communs » permet aux spécialistes de civilisation\, de linguistique et de littérature de l’aire anglophone\, aux américanistes\, britannicistes\, ou spécialistes d’autres régions de cette aire\, de se retrouver autour de questions communes. \nL’expression « lieu commun » peut s’entendre dans le sens littéral d’« espace commun »\, qu’elle porte sur des pratiques ou sur des théorisations. Elle comprend ici une dimension pratique qui précède souvent sa formulation théorique\, dont témoignent les mobilisations actuelles autour des questions du climat ou de la démocratie participative\, par exemple. Parmi les pistes d’exploration possibles\, on notera l’apport des travaux sur la sociabilité. À travers la construction et la circulation des idées\, des espaces et des pratiques\, cette thématique fertile peut éclairer sur la formation des communautés\, de leurs interactions\, et de l’imbrication des rapports sociaux\, De plus\, elle touche directement aux enjeux liés aux tensions entre appartenance et exclusion\, entre dedans et dehors\, entre privé et public\, entre individu et collectif. Elle interroge\, au fil de l’histoire\, les modalités et les mutations du « vivre-ensemble »\, de l’engagement civique et la naissance des pratiques démocratiques. \nLes lieux communs peuvent désigner par ailleurs une tradition utopique qui vise à reconstruire sur une base démocratique et collective la vie linguistique\, culturelle\, sociale ou politique. De même\, les travaux qui s’inscrivent dans les studies (regroupés autour de thématiques telles que le genre\, le posthumain\, l’appartenance d’espèce\, le spirituel\, ou encore la dimension postcoloniale) se trouvent en grande adéquation avec le thème des « lieux communs ». \nLes lieux communs peuvent également s’entendre dans le sens d’images\, de représentations ou de constructions mentales prenant naissance dans un contexte donné\, façonné par et pour une société déterminée – ici\, dans l’aire anglophone -\, une société qui cherche à se définir elle-même. Ils évoquent alors une conception critique des topoi\, qui s’ancre dans la tradition aristotélicienne\, exposant la circulation des idées reçues ou consensuelles\, et des formules toutes faites\, mais ouvrant aussi\, plus généralement\, sur une possible considération de questions comme la banalité\, les clichés\, les stéréotypes ou l’ordinaire. Dans son acception courante\, le terme a ainsi souvent pris un sens péjoratif. Dans la création artistique qui vit\, depuis l’époque romantique\, sous le régime de la singularité\, le « lieu commun » a longtemps été ressenti comme disqualifiant. Donne-t-il pour autant naissance à des représentations nécessairement préconçues et figées ? À partir des années 1960\, un double renversement relance le débat : les artistes se révoltent contre la dictature de l’originalité et le concept se trouve replacé\, par l’idéologie de l’avant-garde\, au centre névralgique de la création. \nOr\, le lieu commun serait-il menacé de disparition ? C’est ce que suggère Pascal Ory\, auteur de la préface à l’ouvrage Lieux communs. L’art du cliché\, selon qui : « il se pourrait bien qu’on en fût à l’extinction du lieu commun. L’hypothèse postmoderne ruine de l’intérieur la religion culturelle. » Mal aimé et mal compris\, le « lieu commun » constitue pourtant le ciment discursif indispensable à l’existence d’un lien social : il enregistre ce qui permet le partage. Aussi pourrait-on s’interroger sur les « images et constructions mentales » qui caractérisent l’espace culturel anglophone\, tout en examinant\, le cas échéant\, la spécificité de leur contexte et leur évolution au fil du temps. À la suite de Pascal Ory\, on pourrait également poser la question de ce qu’il en est aujourd’hui et si\, comme le suggèrent les auteurs de l’ouvrage cité\, les lieux communs de cette sphère anglophone « s’affirment comme le matériau crucial du geste créateur. » La notion de « lieu commun » ne semble en effet avoir retrouvé une place prépondérante dans le paysage de la critique que récemment\, avec la réhabilitation de la rhétorique au sein des études littéraires. \nEn retour\, c’est aussi la notion de « commun » dans sa relation au « lieu » qui pourra donner matière à analyse\, comme évoqué plus haut\, le lieu créant le lien. Comme le suggère Etienne Tassin dans son article « Espace commun ou espace public »\, la pensée du commun rejoint souvent un fantasme fusionnel qui est tout à la fois menace et nécessité : menace de dissolution de la différence dans l’un\, nécessité de la rencontre de l’autre. Tassin conclut : « le problème est moins celui de la distance qui sépare que celui du lien qui unit dans la séparation »\, nous invitant à repenser le lieu commun comme celui d’un « vivre-ensemble qui lie la pluralité des communautés particulières et qui\, maintenant les lieux communs dans leurs intervalles et leurs connexions\, donne existence à un lieu commun ». \nD’autre part\, on pourra se demander dans quelle mesure la « crise du lien social » qui caractérise les sociétés contemporaines\, notamment anglophones\, ou encore l’essor de « lieux communs virtuels » remettent en cause l’existence physique et la vocation socialisante du lieu commun. À l’inverse\, comment ces mutations sociales\, culturelles ou techniques nous amènent-elles à repenser le vivre-ensemble et la solidarité ? On peut alors penser à l’émergence des « tiers-lieux »\, espaces au statut encore incertain ou mal défini\, souvent animés par des associations\, des collectifs et accueillant des espaces et des fonctions très diversifiées\, où se développe\, à des degrés divers\, un sentiment d’appartenance à une communauté. Ces nouveaux lieux\, dans leur multiplicité\, font apparaître à la fois des formes de socialisation autour du « faire » et du « faire en commun » et des dynamiques de sociabilité qui portent sur l’invention de nouvelles formes du « commun » et de l’« être en commun ». La nature de la relation entre soi et autre\, espace privé/public\, individualité et communauté demeure au cœur de la réflexion et pourra ainsi être une ligne directrice d’interrogation. \nLes membres de l’équipe\, et notamment les doctorant.es\, sont vivement encouragé.es à participer à cette journée. \nProcédure de soumission des résumés \nNous vous invitons à soumettre une proposition de communication orale\, en français ou en anglais\, lors de cette journée. Cette proposition (titre\, nom\, résumé d’environ 300 mots) sera envoyée par mail à aliette.ventejoux[at]univ-rennes2.fr \nLes textes de communications sélectionnées pourront faire l’objet d’une publication ultérieure dans un volume collectif. \n  \nComité scientifique \n\nAnne-Laure Besnard\nValérie Capdeville\nNicole Cloarec\nÉmilie Dardenne\nAnthony Larson\nClaude Le Fustec\nDelphine Lemonnier-Texier\nHélène Machinal\nCécile Perrot\nAliette Ventéjoux\n\nComité local d’organisation \n\nValérie Capdeville\nÉmilie Dardenne\nClaude Le Fustec\nAliette Ventéjoux\n\nCalendrier \n\nDiffusion de l’appel : 28 janvier 2025\nRetour des abstracts : 1er avril 2025\nRéponse du comité scientifique : 19 mai 2025\nJournée d’étude : 16 octobre 2025\n\n  \nFormat \nLa journée se tiendra uniquement en présentiel. \n  \nPartenaires\n \n  \n \n  \n  \n  \n 
URL:https://sites-recherche.univ-rennes2.fr/ace/evenement/j-e-dequipe-lieux-communs/
LOCATION:Salle L201\, Campus Villejean\, Rennes 2
CATEGORIES:Journées d'étude
ATTACH;FMTTYPE=image/jpeg:https://sites-recherche.univ-rennes2.fr/ace/wp-content/uploads/2024/11/affiche-lieux-communs_def.jpg
END:VEVENT
END:VCALENDAR