BEGIN:VCALENDAR
VERSION:2.0
PRODID:-//ACE - ECPv6.15.18//NONSGML v1.0//EN
CALSCALE:GREGORIAN
METHOD:PUBLISH
X-WR-CALNAME:ACE
X-ORIGINAL-URL:https://sites-recherche.univ-rennes2.fr/ace
X-WR-CALDESC:Évènements pour ACE
REFRESH-INTERVAL;VALUE=DURATION:PT1H
X-Robots-Tag:noindex
X-PUBLISHED-TTL:PT1H
BEGIN:VTIMEZONE
TZID:Europe/Paris
BEGIN:DAYLIGHT
TZOFFSETFROM:+0100
TZOFFSETTO:+0200
TZNAME:CEST
DTSTART:20250330T010000
END:DAYLIGHT
BEGIN:STANDARD
TZOFFSETFROM:+0200
TZOFFSETTO:+0100
TZNAME:CET
DTSTART:20251026T010000
END:STANDARD
BEGIN:DAYLIGHT
TZOFFSETFROM:+0100
TZOFFSETTO:+0200
TZNAME:CEST
DTSTART:20260329T010000
END:DAYLIGHT
BEGIN:STANDARD
TZOFFSETFROM:+0200
TZOFFSETTO:+0100
TZNAME:CET
DTSTART:20261025T010000
END:STANDARD
BEGIN:DAYLIGHT
TZOFFSETFROM:+0100
TZOFFSETTO:+0200
TZNAME:CEST
DTSTART:20270328T010000
END:DAYLIGHT
BEGIN:STANDARD
TZOFFSETFROM:+0200
TZOFFSETTO:+0100
TZNAME:CET
DTSTART:20271031T010000
END:STANDARD
END:VTIMEZONE
BEGIN:VEVENT
DTSTART;TZID=Europe/Paris:20260123T100000
DTEND;TZID=Europe/Paris:20260123T173000
DTSTAMP:20260419T155601
CREATED:20251216T135413Z
LAST-MODIFIED:20260324T105625Z
UID:2170-1769162400-1769189400@sites-recherche.univ-rennes2.fr
SUMMARY:Journée d'étude : Le spirituel en fiction française et anglophone
DESCRIPTION:Journée d’études 23 janvier 2026\nOrganisation : Claude Le Fustec & Charline Pluvinet\nUniversité Rennes 2 – ACE (EA 1796) & CELLAM (EA 3206) \nPROGRAMME\nI. La fiction française \nProblématisation au départ de l’œuvre de Sylvie Germain \nPrésidence de séance : Charline Pluvinet (CELLAM) \n10h00-11h00 : Entretien avec Sylvie Germain mené par Myriam Watthee Delmotte (FNRS-UCLouvain-Theorias) \n \n11h15-11h45 : Tâtonnement spirituel\, tâtonnement du récit ; réflexions sur deux romans de Sylvie Germain : Petites scènes capitales (2013) et À la table des hommes (2016) – Aude Bonord (Université Paul Valéry\, Montpellier-Theorias)\n11h45-12h15 : L’écriture réaliste magique du spirituel dans Magnus (2005) de Sylvie Germain : la découverte du Mystère et le ré-enchantement du monde – Aurore Boullier (Rennes 2) \nII. La fiction anglophone \nPrésidence de séance : Claude Le Fustec (ACE-Theorias) \n14h30-15h15 : “Don’t unbalance His world”. Le spirituel post-séculier chez Toni Morrison : merveilleux et religion – Carline Encarnacion (Toulouse 2)\n15h15-15h45 : Worshipping with Flowers: John Ruskin and Lilias Trotter’s spiritual approach to natural history – Laurence Constanty-Roussillon (Université de Pau et des Pays de l’Adour) et Celia Jarvis-Stalin (Université de Pau et des Pays de l’Adour & University of Warwick) \nIII. Le spirituel dans la fiction contemporaine : enjeux scientifiques et méthodologies \nModératrice : Myriam Watthee-Delmotte (FNRS-UCLouvain-Theorias) \n16h00-17h30 : Table ronde avec : \n\nStéphanie Bertrand (Université de Lorraine)\nMichel Feith (Université de Nantes)\nClaude Le Fustec (Rennes 2 -Theorias)\nDelphine Louis-Dimitrov (ICP\, Paris)\nVáclava Bakešova (Université Masaryk\, Brno)
URL:https://sites-recherche.univ-rennes2.fr/ace/evenement/journee-detude/
LOCATION:Salle L201\, Campus Villejean\, Rennes 2
CATEGORIES:Journées d'étude
ATTACH;FMTTYPE=image/jpeg:https://sites-recherche.univ-rennes2.fr/ace/wp-content/uploads/2025/12/affiche-theorias-2025-01-23-a4-ou-a3.jpg
END:VEVENT
END:VCALENDAR