BEGIN:VCALENDAR
VERSION:2.0
PRODID:-//CELLAM - ECPv6.15.18//NONSGML v1.0//EN
CALSCALE:GREGORIAN
METHOD:PUBLISH
X-ORIGINAL-URL:https://sites-recherche.univ-rennes2.fr/cellam
X-WR-CALDESC:Évènements pour CELLAM
REFRESH-INTERVAL;VALUE=DURATION:PT1H
X-Robots-Tag:noindex
X-PUBLISHED-TTL:PT1H
BEGIN:VTIMEZONE
TZID:Europe/Paris
BEGIN:DAYLIGHT
TZOFFSETFROM:+0100
TZOFFSETTO:+0200
TZNAME:CEST
DTSTART:20240331T010000
END:DAYLIGHT
BEGIN:STANDARD
TZOFFSETFROM:+0200
TZOFFSETTO:+0100
TZNAME:CET
DTSTART:20241027T010000
END:STANDARD
BEGIN:DAYLIGHT
TZOFFSETFROM:+0100
TZOFFSETTO:+0200
TZNAME:CEST
DTSTART:20250330T010000
END:DAYLIGHT
BEGIN:STANDARD
TZOFFSETFROM:+0200
TZOFFSETTO:+0100
TZNAME:CET
DTSTART:20251026T010000
END:STANDARD
BEGIN:DAYLIGHT
TZOFFSETFROM:+0100
TZOFFSETTO:+0200
TZNAME:CEST
DTSTART:20260329T010000
END:DAYLIGHT
BEGIN:STANDARD
TZOFFSETFROM:+0200
TZOFFSETTO:+0100
TZNAME:CET
DTSTART:20261025T010000
END:STANDARD
END:VTIMEZONE
BEGIN:VEVENT
DTSTART;TZID=Europe/Paris:20250117T141500
DTEND;TZID=Europe/Paris:20250117T163000
DTSTAMP:20260425T025856
CREATED:20241216T074908Z
LAST-MODIFIED:20250117T163748Z
UID:4686-1737123300-1737131400@sites-recherche.univ-rennes2.fr
SUMMARY:Séminaire Dialogue des temps (groupe Mouseion) – 3e séance
DESCRIPTION:L’Antiquité hors de contrôle : excès et transgression des normes\n14h15-15h15 – Christian-Georges Schwentzel (U. de Lorraine) : \nPhallus\, vulve et débauche dans la Rome antique \n15h15-16h15 – Caroline Petit (U. de Warwick) : \nAntiques\, sadiques et diaboliques : les Anciens et le Mal \n  \n  \nRésumé de la conférence de C-G Schwentzel_Phallus\, vulve et débauche \nRésumé de la communication de Caroline Petit – Antiques\, sadiques et diaboliques
URL:https://sites-recherche.univ-rennes2.fr/cellam/evenement/seminaire-dialogue-des-temps-groupe-mouseion-3e-seance/
LOCATION:Campus Villejean\, salle recherche\, bâtiment B
END:VEVENT
BEGIN:VEVENT
DTSTART;TZID=Europe/Paris:20250123T170000
DTEND;TZID=Europe/Paris:20250123T190000
DTSTAMP:20260425T025856
CREATED:20250116T133831Z
LAST-MODIFIED:20250116T133831Z
UID:4701-1737651600-1737658800@sites-recherche.univ-rennes2.fr
SUMMARY:Séminaire romaniste au fonds ancien de la Bibliothèque universitaire de Rennes 2
DESCRIPTION:Claire Lesage\, La Jérusalem délivrée: une œuvre dissidente?
URL:https://sites-recherche.univ-rennes2.fr/cellam/evenement/seminaire-romaniste-au-fonds-ancien-de-la-bibliotheque-universitaire-de-rennes-2/
CATEGORIES:Séminaire
END:VEVENT
BEGIN:VEVENT
DTSTART;TZID=Europe/Paris:20250130T170000
DTEND;TZID=Europe/Paris:20250130T190000
DTSTAMP:20260425T025856
CREATED:20250124T195336Z
LAST-MODIFIED:20250129T155943Z
UID:4710-1738256400-1738263600@sites-recherche.univ-rennes2.fr
SUMMARY:Séance commune du Groupe Mouseion et du groupe Romaniste\, autour de Médée : ATTENTION LA SÉANCE EST REPORTÉE
DESCRIPTION:Blandine Cuny-Lecallet (univ. Paris Est-Créteil)\, Médée de la littérature antique à la bande dessinée \nAntonella del Gatto (univ. di Pescara-Chieti)\, Médée : évolution d’un archétype \nCharline Pluvinet (Univ. Rennes 2)\, Clôture : Médée\, notre contemporaine ?
URL:https://sites-recherche.univ-rennes2.fr/cellam/evenement/seance-commune-du-groupe-museion-et-du-groupe-romaniste-autour-de-medee/
LOCATION:salle recherche (bât. B)
END:VEVENT
END:VCALENDAR