BEGIN:VCALENDAR
VERSION:2.0
PRODID:-//CELLAM - ECPv6.15.18//NONSGML v1.0//EN
CALSCALE:GREGORIAN
METHOD:PUBLISH
X-WR-CALNAME:CELLAM
X-ORIGINAL-URL:https://sites-recherche.univ-rennes2.fr/cellam
X-WR-CALDESC:Évènements pour CELLAM
REFRESH-INTERVAL;VALUE=DURATION:PT1H
X-Robots-Tag:noindex
X-PUBLISHED-TTL:PT1H
BEGIN:VTIMEZONE
TZID:Europe/Paris
BEGIN:DAYLIGHT
TZOFFSETFROM:+0100
TZOFFSETTO:+0200
TZNAME:CEST
DTSTART:20240331T010000
END:DAYLIGHT
BEGIN:STANDARD
TZOFFSETFROM:+0200
TZOFFSETTO:+0100
TZNAME:CET
DTSTART:20241027T010000
END:STANDARD
BEGIN:DAYLIGHT
TZOFFSETFROM:+0100
TZOFFSETTO:+0200
TZNAME:CEST
DTSTART:20250330T010000
END:DAYLIGHT
BEGIN:STANDARD
TZOFFSETFROM:+0200
TZOFFSETTO:+0100
TZNAME:CET
DTSTART:20251026T010000
END:STANDARD
BEGIN:DAYLIGHT
TZOFFSETFROM:+0100
TZOFFSETTO:+0200
TZNAME:CEST
DTSTART:20260329T010000
END:DAYLIGHT
BEGIN:STANDARD
TZOFFSETFROM:+0200
TZOFFSETTO:+0100
TZNAME:CET
DTSTART:20261025T010000
END:STANDARD
END:VTIMEZONE
BEGIN:VEVENT
DTSTART;TZID=Europe/Paris:20250227T133000
DTEND;TZID=Europe/Paris:20250227T160000
DTSTAMP:20260425T014130
CREATED:20250211T210234Z
LAST-MODIFIED:20250211T210234Z
UID:4739-1740663000-1740672000@sites-recherche.univ-rennes2.fr
SUMMARY:Séminaire du CETM - Parler de foutre
DESCRIPTION:Conférence d’Alain Corbellari\, (Université de Neuchâtel) intitulée : « Le traitement des allusions sexuelles dans les adaptations modernes\npost-bédiéristes de la légende de Tristan »
URL:https://sites-recherche.univ-rennes2.fr/cellam/evenement/seminaire-du-cetm-parler-de-foutre/
LOCATION:Campus Villejean\, salle recherche\, bâtiment B
END:VEVENT
BEGIN:VEVENT
DTSTART;TZID=Europe/Paris:20250227T170000
DTEND;TZID=Europe/Paris:20250227T190000
DTSTAMP:20260425T014130
CREATED:20250124T195839Z
LAST-MODIFIED:20250124T200015Z
UID:4712-1740675600-1740682800@sites-recherche.univ-rennes2.fr
SUMMARY:Séance du séminaire romaniste consacrée à Jean de Saint-Samson
DESCRIPTION:Jean-Damien Gilloux (doctorant à l’univ. Rennes 2)\, Jean de Saint-Samson\, carme\, mystique\, poète
URL:https://sites-recherche.univ-rennes2.fr/cellam/evenement/seminaire-du-groupe-romaniste-3/
LOCATION:salle recherche (bât. B)
END:VEVENT
BEGIN:VEVENT
DTSTART;TZID=Europe/Paris:20250228T141500
DTEND;TZID=Europe/Paris:20250228T163000
DTSTAMP:20260425T014130
CREATED:20250211T145308Z
LAST-MODIFIED:20250304T133631Z
UID:4725-1740752100-1740760200@sites-recherche.univ-rennes2.fr
SUMMARY:5e séance du séminaire Dialogue des temps : Homère\, toujours d'actualité ? (en distanciel)
DESCRIPTION:Homère\, toujours d’actualité ?\n14h15-15h15 > Marianne Reboul (ENS Lyon) : \nComparaison des traductions françaises de l’Odyssée par l’intelligence artificielle : problèmes et perspectives \n15h15-16h15 > Claire Lechevalier (U. Caen-Normandie) : \nUn besoin d’Homère : usages contemporains d’une œuvre antique \n  \n  \nVendredi 28 Février 2025 \nAttention : la séance\, initialement prévue en hybride\, se tiendra uniquement en distanciel (lien sur demande). \nOrganisation et contact : Anne Rolet (anne.rolet@univ-rennes2.fr) \n\nRésumé de la communication de Marianne Reboul : Comparaison des traductions françaises de l’Odyssée par l’intelligence artificielle\nRésumé de la communication de Claire Lechevalier : Un besoin d’Homère – usages contemporains d’une œuvre antique
URL:https://sites-recherche.univ-rennes2.fr/cellam/evenement/5e-seance-du-seminaire-dialogue-des-temps-homere-toujours-dactualite/
LOCATION:Campus Villejean\, UFR ALC\, Bat. B\, salle 332
END:VEVENT
END:VCALENDAR