BEGIN:VCALENDAR
VERSION:2.0
PRODID:-//CELLAM - ECPv6.15.18//NONSGML v1.0//EN
CALSCALE:GREGORIAN
METHOD:PUBLISH
X-WR-CALNAME:CELLAM
X-ORIGINAL-URL:https://sites-recherche.univ-rennes2.fr/cellam
X-WR-CALDESC:Évènements pour CELLAM
REFRESH-INTERVAL;VALUE=DURATION:PT1H
X-Robots-Tag:noindex
X-PUBLISHED-TTL:PT1H
BEGIN:VTIMEZONE
TZID:Europe/Paris
BEGIN:DAYLIGHT
TZOFFSETFROM:+0100
TZOFFSETTO:+0200
TZNAME:CEST
DTSTART:20240331T010000
END:DAYLIGHT
BEGIN:STANDARD
TZOFFSETFROM:+0200
TZOFFSETTO:+0100
TZNAME:CET
DTSTART:20241027T010000
END:STANDARD
BEGIN:DAYLIGHT
TZOFFSETFROM:+0100
TZOFFSETTO:+0200
TZNAME:CEST
DTSTART:20250330T010000
END:DAYLIGHT
BEGIN:STANDARD
TZOFFSETFROM:+0200
TZOFFSETTO:+0100
TZNAME:CET
DTSTART:20251026T010000
END:STANDARD
BEGIN:DAYLIGHT
TZOFFSETFROM:+0100
TZOFFSETTO:+0200
TZNAME:CEST
DTSTART:20260329T010000
END:DAYLIGHT
BEGIN:STANDARD
TZOFFSETFROM:+0200
TZOFFSETTO:+0100
TZNAME:CET
DTSTART:20261025T010000
END:STANDARD
END:VTIMEZONE
BEGIN:VEVENT
DTSTART;TZID=Europe/Paris:20250306T093000
DTEND;TZID=Europe/Paris:20250306T170000
DTSTAMP:20260424T223629
CREATED:20241021T164616Z
LAST-MODIFIED:20241021T164616Z
UID:4563-1741253400-1741280400@sites-recherche.univ-rennes2.fr
SUMMARY:Journée d'étude: « Prisonnières » : mythes\, fictions et récits de femmes incarcérées
DESCRIPTION:Appel à communications: https://adhoc.hypotheses.org/2231 \nPropositions à adresser avant le 12 décembre 2024.
URL:https://sites-recherche.univ-rennes2.fr/cellam/evenement/journee-detude-prisonnieres-mythes-fictions-et-recits-de-femmes-incarcerees/
END:VEVENT
BEGIN:VEVENT
DTSTART;TZID=Europe/Paris:20250319T141500
DTEND;TZID=Europe/Paris:20250319T163000
DTSTAMP:20260424T223629
CREATED:20250310T150612Z
LAST-MODIFIED:20250319T160825Z
UID:4781-1742393700-1742401800@sites-recherche.univ-rennes2.fr
SUMMARY:6e séance du séminaire Dialogue des temps (groupe Mouseion) : Médecine de l'âme\, médecine du corps
DESCRIPTION:  \nMédecine du corps\, médecine de l’âme :\ntextes\, pratiques et théories\, de l’Antiquité à la Renaissance\n14h15-15h15 > Pierre-Henri ORTIZ (U. d’Angers)\nLa Psychiatrie à Rome\n15h15-16h15 > Jérôme LAUBNER (U. Montpellier 3)\nVénus malade. Représentations de la vérole et des vérolés au XVIe siècle \nMercredi 19 Mars 2025 \n  \n  \n\nRésumé de l’intervention de Pierre-Henri Ortiz_Psychiatrie antique\nRésumé de l’intervention de Jérôme Laubner_Vénus malade\n\n  \nOrganisation et contact : Anne ROLET (anne.rolet@univ-rennes2.fr)
URL:https://sites-recherche.univ-rennes2.fr/cellam/evenement/6e-seance-du-seminaire-dialogue-des-temps-groupe-mouseion/
LOCATION:Visioconférence. Demander le lien à anne.rolet@univ-rennes2.fr
END:VEVENT
BEGIN:VEVENT
DTSTART;TZID=Europe/Paris:20250320T133000
DTEND;TZID=Europe/Paris:20250320T160000
DTSTAMP:20260424T223629
CREATED:20250312T102858Z
LAST-MODIFIED:20250312T102858Z
UID:4789-1742477400-1742486400@sites-recherche.univ-rennes2.fr
SUMMARY:Séminaire du CETM Parler du foutre/Réception
DESCRIPTION:Sébastien DOUCHET\, université Clermont-Auvergne\, Sexe et Moyen-Âge au siècle du libertinage : aperçu sur le médiévalisme moderne
URL:https://sites-recherche.univ-rennes2.fr/cellam/evenement/seminaire-du-cetm-parler-du-foutre-reception/
LOCATION:Campus Villejean\, UFR ALC\, salle recherche
CATEGORIES:Séminaire
END:VEVENT
BEGIN:VEVENT
DTSTART;TZID=Europe/Paris:20250327T090000
DTEND;TZID=Europe/Paris:20250328T173000
DTSTAMP:20260424T223629
CREATED:20250312T103704Z
LAST-MODIFIED:20250325T213538Z
UID:4792-1743066000-1743183000@sites-recherche.univ-rennes2.fr
SUMMARY:Colloque international ANR DhaF: "Dante est un poète français". Réception de Dante en France\, entre traduction et création (XIXe-XXIe)
DESCRIPTION:  \nProgramme colloque DHAF R2 \n  \nPour celles et ceux qui souhaiteraient suivre les travaux à distance\, il faut écrire à claire.lesage@univ-rennes2.fr\, afin d’obtenir le lien de connexion.
URL:https://sites-recherche.univ-rennes2.fr/cellam/evenement/colloque-international-anr-dhaf-dante-est-un-poete-francais-reception-de-dante-en-france-entre-traduction-et-creation-xixe-xxie/
LOCATION:Campus Beaulieu\, bâtiment 9A\, PNRB
CATEGORIES:Colloque
ATTACH;FMTTYPE=image/jpeg:https://sites-recherche.univ-rennes2.fr/cellam/wp-content/uploads/2025/03/dante-en-bretagne-scaled.jpg
END:VEVENT
END:VCALENDAR