BEGIN:VCALENDAR
VERSION:2.0
PRODID:-//CELLAM - ECPv6.15.18//NONSGML v1.0//EN
CALSCALE:GREGORIAN
METHOD:PUBLISH
X-WR-CALNAME:CELLAM
X-ORIGINAL-URL:https://sites-recherche.univ-rennes2.fr/cellam
X-WR-CALDESC:Évènements pour CELLAM
REFRESH-INTERVAL;VALUE=DURATION:PT1H
X-Robots-Tag:noindex
X-PUBLISHED-TTL:PT1H
BEGIN:VTIMEZONE
TZID:Europe/Paris
BEGIN:DAYLIGHT
TZOFFSETFROM:+0100
TZOFFSETTO:+0200
TZNAME:CEST
DTSTART:20240331T010000
END:DAYLIGHT
BEGIN:STANDARD
TZOFFSETFROM:+0200
TZOFFSETTO:+0100
TZNAME:CET
DTSTART:20241027T010000
END:STANDARD
BEGIN:DAYLIGHT
TZOFFSETFROM:+0100
TZOFFSETTO:+0200
TZNAME:CEST
DTSTART:20250330T010000
END:DAYLIGHT
BEGIN:STANDARD
TZOFFSETFROM:+0200
TZOFFSETTO:+0100
TZNAME:CET
DTSTART:20251026T010000
END:STANDARD
BEGIN:DAYLIGHT
TZOFFSETFROM:+0100
TZOFFSETTO:+0200
TZNAME:CEST
DTSTART:20260329T010000
END:DAYLIGHT
BEGIN:STANDARD
TZOFFSETFROM:+0200
TZOFFSETTO:+0100
TZNAME:CET
DTSTART:20261025T010000
END:STANDARD
END:VTIMEZONE
BEGIN:VEVENT
DTSTART;TZID=Europe/Paris:20250515T170000
DTEND;TZID=Europe/Paris:20250515T190000
DTSTAMP:20260424T193019
CREATED:20250511T174327Z
LAST-MODIFIED:20250511T174414Z
UID:4872-1747328400-1747335600@sites-recherche.univ-rennes2.fr
SUMMARY:Séminaire Romaniste - 17h-19h
DESCRIPTION:Jérôme Lecompte\, Dramaturgie racinienne de la dissidence
URL:https://sites-recherche.univ-rennes2.fr/cellam/evenement/seminaire-romaniste-7/
LOCATION:Campus Villejean\, UFR ALC\, salle recherche
CATEGORIES:Séminaire
END:VEVENT
BEGIN:VEVENT
DTSTART;VALUE=DATE:20250521
DTEND;VALUE=DATE:20250523
DTSTAMP:20260424T193019
CREATED:20250506T080206Z
LAST-MODIFIED:20250506T124713Z
UID:4845-1747785600-1747958399@sites-recherche.univ-rennes2.fr
SUMMARY:Journées - Ateliers Portraits hispaniques accessibles : cultures de l’expérience Rennes\, les 21-22 mai 2025
DESCRIPTION:Programme_audio
URL:https://sites-recherche.univ-rennes2.fr/cellam/evenement/journees-ateliers-portraits-hispaniques-accessibles-cultures-de-lexperience-rennes-les-21-22-mai-2025/
LOCATION:Association Valentin Haüy\, Maison Internationale de Rennes\, 14 Rue Baudrairie\, 7 Quai Chateaubriand\, Rennes\, Rennes\, 35000\, France
END:VEVENT
END:VCALENDAR