BEGIN:VCALENDAR
VERSION:2.0
PRODID:-//TEMPORA - ECPv6.15.18//NONSGML v1.0//EN
CALSCALE:GREGORIAN
METHOD:PUBLISH
X-ORIGINAL-URL:https://sites-recherche.univ-rennes2.fr/tempora
X-WR-CALDESC:Évènements pour TEMPORA
REFRESH-INTERVAL;VALUE=DURATION:PT1H
X-Robots-Tag:noindex
X-PUBLISHED-TTL:PT1H
BEGIN:VTIMEZONE
TZID:Europe/Paris
BEGIN:DAYLIGHT
TZOFFSETFROM:+0100
TZOFFSETTO:+0200
TZNAME:CEST
DTSTART:20240331T010000
END:DAYLIGHT
BEGIN:STANDARD
TZOFFSETFROM:+0200
TZOFFSETTO:+0100
TZNAME:CET
DTSTART:20241027T010000
END:STANDARD
BEGIN:DAYLIGHT
TZOFFSETFROM:+0100
TZOFFSETTO:+0200
TZNAME:CEST
DTSTART:20250330T010000
END:DAYLIGHT
BEGIN:STANDARD
TZOFFSETFROM:+0200
TZOFFSETTO:+0100
TZNAME:CET
DTSTART:20251026T010000
END:STANDARD
BEGIN:DAYLIGHT
TZOFFSETFROM:+0100
TZOFFSETTO:+0200
TZNAME:CEST
DTSTART:20260329T010000
END:DAYLIGHT
BEGIN:STANDARD
TZOFFSETFROM:+0200
TZOFFSETTO:+0100
TZNAME:CET
DTSTART:20261025T010000
END:STANDARD
END:VTIMEZONE
BEGIN:VEVENT
DTSTART;TZID=Europe/Paris:20250203T090000
DTEND;TZID=Europe/Paris:20250204T170000
DTSTAMP:20260425T052602
CREATED:20250121T084809Z
LAST-MODIFIED:20250130T100213Z
UID:4501-1738573200-1738688400@sites-recherche.univ-rennes2.fr
SUMMARY:Colloque international en ligne : "Arts du cirque sans frontières. Pour une histoire mondiale du cirque"
DESCRIPTION:Le colloque aura lieu le 3 et le 4 février\, en ligne. \nRésumé : Depuis une vingtaine d’année\, l’histoire du cirque connaît un dynamisme certain. Pourtant\, alors que le cirque est international par essence\, les plupart de ces travaux traitent la question à partir d’un angle national. Ce colloque international ambitionne de décloisonner ces historiographies en appelant les chercheurs et chercheuses en histoire et plus largement en arts et sciences sociales (arts du spectacle\, histoire de l’art\, sociologie\, anthropologie\, etc.) à croiser leurs approches. Il se voit comme un premier pas vers une histoire mondiale du cirque\, sans ignorer les limites d’une telle entreprise. L’historiographie du cirque est récente et beaucoup d’aspects restent inexplorés. Les travaux établissant des ponts entre les différentes histoires nationales manquent. En outre\, une partie d’entre elles n’ont pas encore été écrites. L’histoire du cirque dans certaines régions du monde\, et à certaines périodes demeure largement méconnue. Par conséquent\, des communications retenant une approche locale pourront être proposées si elles permettent d’attirer l’attention sur ces espaces où l’histoire du cirque reste à écrire. Néanmoins\, l’accent sera mis sur les approches comparées ou connectées\, globales voire mondiales. Il s’agira de mettre en avant des dynamiques interculturelles plutôt que des particularismes locaux. \nOrganisation : Gaëtan Rivière (indépendant)\, Quentin Villa (Tempora) et Éva Guillorel (Tempora) \nComité scientifique : \n\nGillian Arrighi (Associate Professor en études théâtrales\, University of New South Wales)\nPhilippe Bourdin (PU en histoire moderne\, Université Clermont Auvergne)\nPierre Causse (Mcf en études théâtrales\, Université Rennes 2)\nMartine Clouzot (PU en histoire médiévale\, Université de Bourgogne)\nDaniel de Carvalho Lopes (Docteur en éducation\, Universidade de São Paulo)\nAlexis D’Hautcourt (Professeur de français\, Kansai Gaidai University)\nVéronique Dasen (Professeure d’archéologie\, Université de Fribourg)\nCharlène Dray (Mcf en Études théâtrales\, Université Paris 8)\nÉva Guillorel (Mcf en histoire moderne\, Université Rennes 2)\nJulieta Infantino (Professeur d’anthropologie\, Universidad de Buenos Aires)\nÉléonore Martin (Mcf en arts du spectacle\, Université Bordeaux Montaigne)\nNatalie Petiteau (PU en histoire contemporaine\, Avignon Université)\nPierre Philippe-Meden (Mcf en arts du spectacle\, Université Paul-Valéry Montpellier 3)\nGaëtan Rivière (docteur en histoire et esthétique)\nQuentin Villa (Doctorant en histoire contemporaine du cirque\, Université Rennes 2)\n\nProgramme  \nPour participer à la visioconférence\, écrire à : colloquecirque@gmail.com
URL:https://sites-recherche.univ-rennes2.fr/tempora/event/colloque-international-en-ligne-arts-du-cirque-sans-frontieres-pour-une-histoire-mondiale-du-cirque/
CATEGORIES:Colloques
ATTACH;FMTTYPE=image/jpeg:https://sites-recherche.univ-rennes2.fr/tempora/wp-content/uploads/2025/01/affiche-arts-du-cirque-sans-frontieres.jpg
END:VEVENT
END:VCALENDAR