BEGIN:VCALENDAR
VERSION:2.0
PRODID:-//TEMPORA - ECPv6.15.18//NONSGML v1.0//EN
CALSCALE:GREGORIAN
METHOD:PUBLISH
X-WR-CALNAME:TEMPORA
X-ORIGINAL-URL:https://sites-recherche.univ-rennes2.fr/tempora
X-WR-CALDESC:Évènements pour TEMPORA
REFRESH-INTERVAL;VALUE=DURATION:PT1H
X-Robots-Tag:noindex
X-PUBLISHED-TTL:PT1H
BEGIN:VTIMEZONE
TZID:Europe/Paris
BEGIN:DAYLIGHT
TZOFFSETFROM:+0100
TZOFFSETTO:+0200
TZNAME:CEST
DTSTART:20250330T010000
END:DAYLIGHT
BEGIN:STANDARD
TZOFFSETFROM:+0200
TZOFFSETTO:+0100
TZNAME:CET
DTSTART:20251026T010000
END:STANDARD
BEGIN:DAYLIGHT
TZOFFSETFROM:+0100
TZOFFSETTO:+0200
TZNAME:CEST
DTSTART:20260329T010000
END:DAYLIGHT
BEGIN:STANDARD
TZOFFSETFROM:+0200
TZOFFSETTO:+0100
TZNAME:CET
DTSTART:20261025T010000
END:STANDARD
BEGIN:DAYLIGHT
TZOFFSETFROM:+0100
TZOFFSETTO:+0200
TZNAME:CEST
DTSTART:20270328T010000
END:DAYLIGHT
BEGIN:STANDARD
TZOFFSETFROM:+0200
TZOFFSETTO:+0100
TZNAME:CET
DTSTART:20271031T010000
END:STANDARD
END:VTIMEZONE
BEGIN:VEVENT
DTSTART;TZID=Europe/Paris:20260604T153000
DTEND;TZID=Europe/Paris:20260605T190000
DTSTAMP:20260424T233704
CREATED:20260409T073117Z
LAST-MODIFIED:20260420T105748Z
UID:4925-1780587000-1780686000@sites-recherche.univ-rennes2.fr
SUMMARY:Séminaire de Tempora 2026 : La justice : aspirations\, institutions\, incarnations
DESCRIPTION:  \nOrganisation : Michel Tissier \nAppel à communications \nProgramme
URL:https://sites-recherche.univ-rennes2.fr/tempora/event/seminaire-de-tempora-2026-la-justice-aspirations-institutions-incarnations/
LOCATION:Université Rennes 2 – Amphi E1
CATEGORIES:Séminaire
END:VEVENT
END:VCALENDAR