BEGIN:VCALENDAR
VERSION:2.0
PRODID:-//TEMPORA - ECPv6.15.18//NONSGML v1.0//EN
CALSCALE:GREGORIAN
METHOD:PUBLISH
X-ORIGINAL-URL:https://sites-recherche.univ-rennes2.fr/tempora
X-WR-CALDESC:Évènements pour TEMPORA
REFRESH-INTERVAL;VALUE=DURATION:PT1H
X-Robots-Tag:noindex
X-PUBLISHED-TTL:PT1H
BEGIN:VTIMEZONE
TZID:Europe/Paris
BEGIN:DAYLIGHT
TZOFFSETFROM:+0100
TZOFFSETTO:+0200
TZNAME:CEST
DTSTART:20240331T010000
END:DAYLIGHT
BEGIN:STANDARD
TZOFFSETFROM:+0200
TZOFFSETTO:+0100
TZNAME:CET
DTSTART:20241027T010000
END:STANDARD
BEGIN:DAYLIGHT
TZOFFSETFROM:+0100
TZOFFSETTO:+0200
TZNAME:CEST
DTSTART:20250330T010000
END:DAYLIGHT
BEGIN:STANDARD
TZOFFSETFROM:+0200
TZOFFSETTO:+0100
TZNAME:CET
DTSTART:20251026T010000
END:STANDARD
BEGIN:DAYLIGHT
TZOFFSETFROM:+0100
TZOFFSETTO:+0200
TZNAME:CEST
DTSTART:20260329T010000
END:DAYLIGHT
BEGIN:STANDARD
TZOFFSETFROM:+0200
TZOFFSETTO:+0100
TZNAME:CET
DTSTART:20261025T010000
END:STANDARD
BEGIN:DAYLIGHT
TZOFFSETFROM:+0100
TZOFFSETTO:+0200
TZNAME:CEST
DTSTART:20270328T010000
END:DAYLIGHT
BEGIN:STANDARD
TZOFFSETFROM:+0200
TZOFFSETTO:+0100
TZNAME:CET
DTSTART:20271031T010000
END:STANDARD
END:VTIMEZONE
BEGIN:VEVENT
DTSTART;TZID=Europe/Paris:20251014T080000
DTEND;TZID=Europe/Paris:20260308T170000
DTSTAMP:20260425T014247
CREATED:20251009T092637Z
LAST-MODIFIED:20251009T092637Z
UID:4721-1760428800-1772989200@sites-recherche.univ-rennes2.fr
SUMMARY:Les Bretilliennes s'émancipent (19e-20e s.)
DESCRIPTION:L’exposition aux Archives départementales d’Ille-et-Vilaine  Elles. Leurs droits\, notre histoire. Les Bretilliennes s’émancipent (19-20e siècles) ouvre ses portes mardi 14 octobre 2025 et durera jusqu’au 8 mars 2026. \nConseillères scientifiques : Fanny BUGNON et Caroline MULLER
URL:https://sites-recherche.univ-rennes2.fr/tempora/event/les-bretilliennes-semancipent-19e-20e-s/
LOCATION:Archives départementales d’Ille-et-Vilaine\, Rennes\, France
CATEGORIES:Expositions
END:VEVENT
BEGIN:VEVENT
DTSTART;TZID=Europe/Paris:20251018T093000
DTEND;TZID=Europe/Paris:20251018T170000
DTSTAMP:20260425T014247
CREATED:20250908T195222Z
LAST-MODIFIED:20250908T201444Z
UID:4688-1760779800-1760806800@sites-recherche.univ-rennes2.fr
SUMMARY:Séminaire Actualité de la recherche en histoire de la Bretagne
DESCRIPTION:Troisième édition du séminaire Actualité de la recherche en histoire de la Bretagne\, qui se veut un espace de réflexion consacré à l’histoire de la Bretagne\, où l’on débat aussi bien de problèmes anciens et en cours de réexamen que de questions émergentes. Pour plus de précisions\, se rendre sur la page du séminaire. Cette année\, nous aurons le plaisir d’entendre et d’échanger autour des interventions d’Olivier Aranda (histoire moderne\, UBO)\, Eva Guillorel (histoire moderne\, UR2) et Vincent Launay (histoire médiévale\, UR2).
URL:https://sites-recherche.univ-rennes2.fr/tempora/event/seminaire-actualite-de-la-recherche-en-histoire-de-la-bretagne/
LOCATION:Université Rennes 2 – Salle L 148\, Place du recteur Henri-Le-Moal\, Rennes
CATEGORIES:Séances de séminaire
ATTACH;FMTTYPE=image/png:https://sites-recherche.univ-rennes2.fr/tempora/wp-content/uploads/2025/09/sans-titre.png
END:VEVENT
BEGIN:VEVENT
DTSTART;TZID=Europe/Paris:20251023T124500
DTEND;TZID=Europe/Paris:20251023T134500
DTSTAMP:20260425T014247
CREATED:20251009T075025Z
LAST-MODIFIED:20251009T075025Z
UID:4714-1761223500-1761227100@sites-recherche.univ-rennes2.fr
SUMMARY:Les Temporiales
DESCRIPTION:Anthony Hamon présente l’ouvrage qu’il a codirigé avec Clémence Gadenne-Rosfelder\, La vie des femmes dans les campagnes (France\, XIXe-XXe siècles)\, paru aux PUR en 2025. \nPrésentation de l’éditeur : \n« Comment les femmes vivaient-elles dans les campagnes en France aux XIXe et XXe siècles ? Y a-t-il eu un quotidien rural spécifiquement féminin ? Comment travaillaient-elles à la ferme et au-delà du monde agricole ? Comment se sont-elles engagées\, pourquoi ont-elles milité\, et quels étaient les lieux de leurs sociabilités ? Comment ont-elles été représentées ? Historiens\, historiennes et sociologues proposent ici de revenir sur l’histoire des femmes dans les mondes ruraux en France. Couvrant une période de plus d’un siècle et demi\, à la croisée entre une histoire du genre et une histoire rurale\, ce volume questionne le concept d’émancipation des femmes vivant à la campagne. Il analyse le genre du travail agricole\, la représentation des femmes rurales dans différents médias\, ou encore le militantisme et l’engagement féminin dans les campagnes\, dans des territoires en pleine transformation. Il lance également des pistes de réflexion sur les sources et les méthodes à la disposition des historiens\, historiennes et sociologues pour suivre les trajectoires d’une catégorie de personnes trop souvent essentialisées et invisibilisées. Il enrichit ainsi une historiographie qui\, depuis les années 1980\, donne à voir la spécificité de la vie des femmes des mondes ruraux. »
URL:https://sites-recherche.univ-rennes2.fr/tempora/event/les-temporiales-14/
LOCATION:Université Rennes 2 – Salle L265
ATTACH;FMTTYPE=image/jpeg:https://sites-recherche.univ-rennes2.fr/tempora/wp-content/uploads/2025/10/affiche-anthony-scaled.jpg
END:VEVENT
END:VCALENDAR